Package: BufferedMatrixMethods Version: 1.70.0 Command: /Library/Frameworks/R.framework/Resources/bin/R CMD build --keep-empty-dirs --no-resave-data BufferedMatrixMethods StartedAt: 2025-02-03 19:52:01 -0500 (Mon, 03 Feb 2025) EndedAt: 2025-02-03 19:52:02 -0500 (Mon, 03 Feb 2025) EllapsedTime: 1.2 seconds RetCode: 0 Status: OK PackageFile: BufferedMatrixMethods_1.70.0.tar.gz PackageFileSize: 10.85 KiB