Package: BufferedMatrixMethods Version: 1.70.0 Command: /Library/Frameworks/R.framework/Resources/bin/R CMD check --install=check:BufferedMatrixMethods.install-out.txt --library=/Library/Frameworks/R.framework/Resources/library --no-vignettes --timings BufferedMatrixMethods_1.70.0.tar.gz StartedAt: 2025-02-04 13:29:54 -0500 (Tue, 04 Feb 2025) EndedAt: 2025-02-04 13:30:17 -0500 (Tue, 04 Feb 2025) EllapsedTime: 22.5 seconds RetCode: 0 Status: OK CheckDir: BufferedMatrixMethods.Rcheck Warnings: 0