Package: BufferedMatrixMethods Version: 1.70.0 Command: /Library/Frameworks/R.framework/Resources/bin/R CMD INSTALL BufferedMatrixMethods StartedAt: 2025-02-03 15:16:26 -0500 (Mon, 03 Feb 2025) EndedAt: 2025-02-03 15:16:56 -0500 (Mon, 03 Feb 2025) EllapsedTime: 30.6 seconds RetCode: 0 Status: OK