Package: BumpyMatrix Version: 1.14.0 Command: /Library/Frameworks/R.framework/Resources/bin/R CMD build --keep-empty-dirs --no-resave-data BumpyMatrix StartedAt: 2025-01-30 20:02:32 -0500 (Thu, 30 Jan 2025) EndedAt: 2025-01-30 20:02:59 -0500 (Thu, 30 Jan 2025) EllapsedTime: 26.5 seconds RetCode: 0 Status: OK PackageFile: BumpyMatrix_1.14.0.tar.gz PackageFileSize: 317.7 KiB