Package: BumpyMatrix Version: 1.14.0 Command: rm -rf BumpyMatrix.buildbin-libdir && mkdir BumpyMatrix.buildbin-libdir && /Users/biocbuild/BBS/utils/build-universal.sh BumpyMatrix_1.14.0.tar.gz /Library/Frameworks/R.framework/Resources/bin/R BumpyMatrix.buildbin-libdir StartedAt: 2025-01-31 12:27:03 -0500 (Fri, 31 Jan 2025) EndedAt: 2025-01-31 12:27:37 -0500 (Fri, 31 Jan 2025) EllapsedTime: 33.9 seconds RetCode: 0 Status: OK PackageFile: BumpyMatrix_1.14.0.tgz PackageFileSize: 1.014 MiB