Package: BumpyMatrix Version: 1.14.0 Command: /Library/Frameworks/R.framework/Resources/bin/R CMD check --install=check:BumpyMatrix.install-out.txt --library=/Library/Frameworks/R.framework/Resources/library --no-vignettes --timings BumpyMatrix_1.14.0.tar.gz StartedAt: 2025-01-31 01:06:27 -0500 (Fri, 31 Jan 2025) EndedAt: 2025-01-31 01:09:36 -0500 (Fri, 31 Jan 2025) EllapsedTime: 189.6 seconds RetCode: 0 Status: OK CheckDir: BumpyMatrix.Rcheck Warnings: 0