Package: BumpyMatrix Version: 1.14.0 Command: /home/biocbuild/R/R/bin/R CMD build --keep-empty-dirs --no-resave-data BumpyMatrix StartedAt: 2025-01-30 22:17:29 -0000 (Thu, 30 Jan 2025) EndedAt: 2025-01-30 22:17:57 -0000 (Thu, 30 Jan 2025) EllapsedTime: 28.0 seconds RetCode: 0 Status: OK PackageFile: BumpyMatrix_1.14.0.tar.gz PackageFileSize: 384.9 KiB