Package: CAEN Version: 1.14.0 Command: rm -rf CAEN.buildbin-libdir && mkdir CAEN.buildbin-libdir && /Users/biocbuild/BBS/utils/build-universal.sh CAEN_1.14.0.tar.gz /Library/Frameworks/R.framework/Resources/bin/R CAEN.buildbin-libdir StartedAt: 2025-02-05 15:04:51 -0500 (Wed, 05 Feb 2025) EndedAt: 2025-02-05 15:05:17 -0500 (Wed, 05 Feb 2025) EllapsedTime: 26.4 seconds RetCode: 0 Status: OK PackageFile: CAEN_1.14.0.tgz PackageFileSize: 1.602 MiB