Package: CAEN Version: 1.14.0 Command: /Library/Frameworks/R.framework/Resources/bin/R CMD build --keep-empty-dirs --no-resave-data CAEN StartedAt: 2025-02-03 19:54:07 -0500 (Mon, 03 Feb 2025) EndedAt: 2025-02-03 19:57:16 -0500 (Mon, 03 Feb 2025) EllapsedTime: 189.2 seconds RetCode: 0 Status: OK PackageFile: CAEN_1.14.0.tar.gz PackageFileSize: 988.6 KiB