Package: CAEN Version: 1.14.0 Command: /Library/Frameworks/R.framework/Resources/bin/R CMD check --install=check:CAEN.install-out.txt --library=/Library/Frameworks/R.framework/Resources/library --no-vignettes --timings CAEN_1.14.0.tar.gz StartedAt: 2025-02-04 13:37:37 -0500 (Tue, 04 Feb 2025) EndedAt: 2025-02-04 13:40:28 -0500 (Tue, 04 Feb 2025) EllapsedTime: 170.6 seconds RetCode: 0 Status: OK CheckDir: CAEN.Rcheck Warnings: 0