Package: CAEN Version: 1.14.0 Command: /Library/Frameworks/R.framework/Resources/bin/R CMD INSTALL CAEN StartedAt: 2025-02-03 15:33:21 -0500 (Mon, 03 Feb 2025) EndedAt: 2025-02-03 15:33:34 -0500 (Mon, 03 Feb 2025) EllapsedTime: 12.7 seconds RetCode: 0 Status: OK