Package: CAEN Version: 1.14.0 Command: /home/biocbuild/R/R/bin/R CMD build --keep-empty-dirs --no-resave-data CAEN StartedAt: 2025-02-03 22:19:58 -0000 (Mon, 03 Feb 2025) EndedAt: 2025-02-03 22:22:40 -0000 (Mon, 03 Feb 2025) EllapsedTime: 162.0 seconds RetCode: 0 Status: OK PackageFile: CAEN_1.14.0.tar.gz PackageFileSize: 1013 KiB