Package: CAEN Version: 1.14.0 Command: /home/biocbuild/R/R/bin/R CMD check --install=check:CAEN.install-out.txt --library=/home/biocbuild/R/R/site-library --no-vignettes --timings CAEN_1.14.0.tar.gz StartedAt: 2025-02-04 05:16:57 -0000 (Tue, 04 Feb 2025) EndedAt: 2025-02-04 05:19:56 -0000 (Tue, 04 Feb 2025) EllapsedTime: 179.1 seconds RetCode: 0 Status: OK CheckDir: CAEN.Rcheck Warnings: 0