Package: CAFE Version: 1.42.0 Command: /Library/Frameworks/R.framework/Resources/bin/R CMD check --install=check:CAFE.install-out.txt --library=/Library/Frameworks/R.framework/Resources/library --no-vignettes --timings CAFE_1.42.0.tar.gz StartedAt: 2025-02-04 13:38:08 -0500 (Tue, 04 Feb 2025) EndedAt: 2025-02-04 13:45:12 -0500 (Tue, 04 Feb 2025) EllapsedTime: 423.7 seconds RetCode: 0 Status: WARNINGS CheckDir: CAFE.Rcheck Warnings: 1