Package: CAFE Version: 1.42.0 Command: rm -rf CAFE.buildbin-libdir && mkdir CAFE.buildbin-libdir && /Users/biocbuild/BBS/utils/build-universal.sh CAFE_1.42.0.tar.gz /Library/Frameworks/R.framework/Resources/bin/R CAFE.buildbin-libdir StartedAt: 2025-02-04 12:35:17 -0500 (Tue, 04 Feb 2025) EndedAt: 2025-02-04 12:37:18 -0500 (Tue, 04 Feb 2025) EllapsedTime: 121.6 seconds RetCode: 0 Status: OK PackageFile: CAFE_1.42.0.tgz PackageFileSize: 4.687 MiB