Package: CAFE Version: 1.42.0 Command: /Library/Frameworks/R.framework/Resources/bin/R CMD build --keep-empty-dirs --no-resave-data CAFE StartedAt: 2025-02-03 17:35:43 -0500 (Mon, 03 Feb 2025) EndedAt: 2025-02-03 17:38:52 -0500 (Mon, 03 Feb 2025) EllapsedTime: 188.8 seconds RetCode: 0 Status: OK PackageFile: CAFE_1.42.0.tar.gz PackageFileSize: 4.629 MiB