Package: CAFE Version: 1.42.0 Command: /home/biocbuild/bbs-3.20-bioc/R/bin/R CMD INSTALL CAFE StartedAt: 2025-02-10 15:42:12 -0500 (Mon, 10 Feb 2025) EndedAt: 2025-02-10 15:43:04 -0500 (Mon, 10 Feb 2025) EllapsedTime: 52.6 seconds RetCode: 0 Status: OK