Package: CAFE Version: 1.42.0 Command: F:\biocbuild\bbs-3.20-bioc\R\bin\R.exe CMD check --no-multiarch --install=check:CAFE.install-out.txt --library=F:\biocbuild\bbs-3.20-bioc\R\library --no-vignettes --timings CAFE_1.42.0.tar.gz StartedAt: 2025-02-10 23:50:08 -0500 (Mon, 10 Feb 2025) EndedAt: 2025-02-10 23:56:48 -0500 (Mon, 10 Feb 2025) EllapsedTime: 400.2 seconds RetCode: 0 Status: WARNINGS CheckDir: CAFE.Rcheck Warnings: 1