Package: CAFE Version: 1.42.0 Command: F:\biocbuild\bbs-3.20-bioc\R\bin\R.exe CMD INSTALL CAFE StartedAt: 2025-02-03 16:59:19 -0500 (Mon, 03 Feb 2025) EndedAt: 2025-02-03 17:00:25 -0500 (Mon, 03 Feb 2025) EllapsedTime: 65.6 seconds RetCode: 0 Status: OK