Package: CAGEfightR Version: 1.26.0 Command: rm -rf CAGEfightR.buildbin-libdir && mkdir CAGEfightR.buildbin-libdir && /Users/biocbuild/BBS/utils/build-universal.sh CAGEfightR_1.26.0.tar.gz /Library/Frameworks/R.framework/Resources/bin/R CAGEfightR.buildbin-libdir StartedAt: 2025-02-05 15:04:53 -0500 (Wed, 05 Feb 2025) EndedAt: 2025-02-05 15:05:58 -0500 (Wed, 05 Feb 2025) EllapsedTime: 65.0 seconds RetCode: 0 Status: OK PackageFile: CAGEfightR_1.26.0.tgz PackageFileSize: 2.716 MiB