Package: CAGEfightR Version: 1.26.0 Command: /Library/Frameworks/R.framework/Resources/bin/R CMD build --keep-empty-dirs --no-resave-data CAGEfightR StartedAt: 2025-02-03 19:55:58 -0500 (Mon, 03 Feb 2025) EndedAt: 2025-02-03 19:59:51 -0500 (Mon, 03 Feb 2025) EllapsedTime: 233.2 seconds RetCode: 0 Status: OK PackageFile: CAGEfightR_1.26.0.tar.gz PackageFileSize: 1.704 MiB