Package: CAGEfightR Version: 1.26.0 Command: chmod a+r CAGEfightR -R && F:\biocbuild\bbs-3.20-bioc\R\bin\R.exe CMD build --keep-empty-dirs --no-resave-data CAGEfightR StartedAt: 2025-02-03 17:55:02 -0500 (Mon, 03 Feb 2025) EndedAt: 2025-02-03 18:01:09 -0500 (Mon, 03 Feb 2025) EllapsedTime: 367.0 seconds RetCode: 0 Status: OK PackageFile: CAGEfightR_1.26.0.tar.gz PackageFileSize: 1.568 MiB