Package: CAGEfightR Version: 1.26.0 Command: F:\biocbuild\bbs-3.20-bioc\R\bin\R.exe CMD INSTALL CAGEfightR StartedAt: 2025-02-03 17:01:44 -0500 (Mon, 03 Feb 2025) EndedAt: 2025-02-03 17:03:06 -0500 (Mon, 03 Feb 2025) EllapsedTime: 81.1 seconds RetCode: 0 Status: OK