Package: CAGEfightR Version: 1.26.0 Command: /home/biocbuild/R/R/bin/R CMD build --keep-empty-dirs --no-resave-data CAGEfightR StartedAt: 2025-02-03 22:20:37 -0000 (Mon, 03 Feb 2025) EndedAt: 2025-02-03 22:24:41 -0000 (Mon, 03 Feb 2025) EllapsedTime: 244.1 seconds RetCode: 0 Status: OK PackageFile: CAGEfightR_1.26.0.tar.gz PackageFileSize: 1.62 MiB