Package: CAGEfightR Version: 1.26.0 Command: /home/biocbuild/R/R/bin/R CMD INSTALL CAGEfightR StartedAt: 2025-02-03 21:00:03 -0000 (Mon, 03 Feb 2025) EndedAt: 2025-02-03 21:01:05 -0000 (Mon, 03 Feb 2025) EllapsedTime: 62.1 seconds RetCode: 0 Status: OK