##############################################################################
##############################################################################
###
### Running command:
###
###   rm -rf CAGEr.buildbin-libdir && mkdir CAGEr.buildbin-libdir && F:\biocbuild\bbs-3.20-bioc\R\bin\R.exe CMD INSTALL --build --library=CAGEr.buildbin-libdir CAGEr_2.12.0.tar.gz
###
##############################################################################
##############################################################################


* installing *source* package 'CAGEr' ...
** using staged installation
** R
** data
*** moving datasets to lazyload DB
** inst
** byte-compile and prepare package for lazy loading
** help
*** installing help indices
** building package indices
** installing vignettes
** testing if installed package can be loaded from temporary location
** testing if installed package can be loaded from final location
** testing if installed package keeps a record of temporary installation path
* MD5 sums
packaged installation of 'CAGEr' as CAGEr_2.12.0.zip
* DONE (CAGEr)