Package: CAGEr Version: 2.12.0 Command: F:\biocbuild\bbs-3.20-bioc\R\bin\R.exe CMD INSTALL CAGEr StartedAt: 2025-02-03 17:03:06 -0500 (Mon, 03 Feb 2025) EndedAt: 2025-02-03 17:05:03 -0500 (Mon, 03 Feb 2025) EllapsedTime: 116.3 seconds RetCode: 0 Status: OK