Package: CAGEr Version: 2.12.0 Command: /home/biocbuild/R/R/bin/R CMD build --keep-empty-dirs --no-resave-data CAGEr StartedAt: 2025-02-03 22:21:00 -0000 (Mon, 03 Feb 2025) EndedAt: 2025-02-03 22:25:14 -0000 (Mon, 03 Feb 2025) EllapsedTime: 254.1 seconds RetCode: 0 Status: OK PackageFile: CAGEr_2.12.0.tar.gz PackageFileSize: 1.689 MiB