Package: CAGEr
Version: 2.12.0
Command: /home/biocbuild/bbs-3.20-bioc/R/bin/R CMD build --keep-empty-dirs --no-resave-data CAGEr
StartedAt: 2024-11-19 17:52:46 -0500 (Tue, 19 Nov 2024)
EndedAt: 2024-11-19 17:55:36 -0500 (Tue, 19 Nov 2024)
EllapsedTime: 170.2 seconds
RetCode: 0
Status: OK
PackageFile: CAGEr_2.12.0.tar.gz
PackageFileSize: 1.944 <A href="http://en.wikipedia.org/wiki/MiB" target="_blank">MiB</A>