Package: CAMERA Version: 1.62.0 Command: /Library/Frameworks/R.framework/Resources/bin/R CMD check --install=check:CAMERA.install-out.txt --library=/Library/Frameworks/R.framework/Resources/library --no-vignettes --timings CAMERA_1.62.0.tar.gz StartedAt: 2025-02-04 00:47:22 -0500 (Tue, 04 Feb 2025) EndedAt: 2025-02-04 01:03:03 -0500 (Tue, 04 Feb 2025) EllapsedTime: 941.6 seconds RetCode: 1 Status: ERROR CheckDir: CAMERA.Rcheck Warnings: NA