Package: CAMERA Version: 1.62.0 Command: /home/biocbuild/R/R/bin/R CMD build --keep-empty-dirs --no-resave-data CAMERA StartedAt: 2025-02-03 22:21:20 -0000 (Mon, 03 Feb 2025) EndedAt: 2025-02-03 22:22:53 -0000 (Mon, 03 Feb 2025) EllapsedTime: 93.0 seconds RetCode: 0 Status: OK PackageFile: CAMERA_1.62.0.tar.gz PackageFileSize: 2.405 MiB