Package: CAMERA Version: 1.62.0 Command: /home/biocbuild/R/R/bin/R CMD INSTALL CAMERA StartedAt: 2025-02-03 21:02:52 -0000 (Mon, 03 Feb 2025) EndedAt: 2025-02-03 21:03:56 -0000 (Mon, 03 Feb 2025) EllapsedTime: 64.0 seconds RetCode: 0 Status: OK