Package: CARNIVAL Version: 2.16.0 Command: chmod a+r CARNIVAL -R && F:\biocbuild\bbs-3.20-bioc\R\bin\R.exe CMD build --keep-empty-dirs --no-resave-data CARNIVAL StartedAt: 2025-01-30 17:44:44 -0500 (Thu, 30 Jan 2025) EndedAt: 2025-01-30 17:45:08 -0500 (Thu, 30 Jan 2025) EllapsedTime: 24.3 seconds RetCode: 0 Status: OK PackageFile: CARNIVAL_2.16.0.tar.gz PackageFileSize: 2.047 MiB