Package: CARNIVAL Version: 2.16.0 Command: F:\biocbuild\bbs-3.20-bioc\R\bin\R.exe CMD check --no-multiarch --install=check:CARNIVAL.install-out.txt --library=F:\biocbuild\bbs-3.20-bioc\R\library --no-vignettes --timings CARNIVAL_2.16.0.tar.gz StartedAt: 2025-01-31 00:11:16 -0500 (Fri, 31 Jan 2025) EndedAt: 2025-01-31 00:12:24 -0500 (Fri, 31 Jan 2025) EllapsedTime: 68.0 seconds RetCode: 0 Status: OK CheckDir: CARNIVAL.Rcheck Warnings: 0