Package: CATALYST Version: 1.30.2 Command: /Library/Frameworks/R.framework/Resources/bin/R CMD check --install=check:CATALYST.install-out.txt --library=/Library/Frameworks/R.framework/Resources/library --no-vignettes --timings CATALYST_1.30.2.tar.gz StartedAt: 2025-02-04 13:54:24 -0500 (Tue, 04 Feb 2025) EndedAt: 2025-02-04 14:05:31 -0500 (Tue, 04 Feb 2025) EllapsedTime: 667.7 seconds RetCode: 0 Status: OK CheckDir: CATALYST.Rcheck Warnings: 0