Package: CATALYST Version: 1.30.2 Command: /home/biocbuild/bbs-3.20-bioc/R/bin/R CMD INSTALL CATALYST StartedAt: 2025-02-03 16:08:14 -0500 (Mon, 03 Feb 2025) EndedAt: 2025-02-03 16:08:57 -0500 (Mon, 03 Feb 2025) EllapsedTime: 42.9 seconds RetCode: 0 Status: OK