Package: CATALYST Version: 1.30.2 Command: rm -rf CATALYST.buildbin-libdir && mkdir CATALYST.buildbin-libdir && F:\biocbuild\bbs-3.20-bioc\R\bin\R.exe CMD INSTALL --build --library=CATALYST.buildbin-libdir CATALYST_1.30.2.tar.gz StartedAt: 2025-02-04 08:07:38 -0500 (Tue, 04 Feb 2025) EndedAt: 2025-02-04 08:09:24 -0500 (Tue, 04 Feb 2025) EllapsedTime: 106.3 seconds RetCode: 0 Status: OK PackageFile: CATALYST_1.30.2.zip PackageFileSize: 7.468 MiB