Package: CATALYST
Version: 1.30.2
Command: /home/biocbuild/R/R/bin/R CMD check --install=check:CATALYST.install-out.txt --library=/home/biocbuild/R/R/site-library --no-vignettes --timings CATALYST_1.30.2.tar.gz
StartedAt: 2025-02-18 04:53:39 -0000 (Tue, 18 Feb 2025)
EndedAt: 2025-02-18 05:06:02 -0000 (Tue, 18 Feb 2025)
EllapsedTime: 742.5 seconds
RetCode: 0
Status: OK
CheckDir: CATALYST.Rcheck
Warnings: 0