Package: CBEA Version: 1.6.0 Command: /Library/Frameworks/R.framework/Resources/bin/R CMD build --keep-empty-dirs --no-resave-data CBEA StartedAt: 2025-02-03 20:04:41 -0500 (Mon, 03 Feb 2025) EndedAt: 2025-02-03 20:06:01 -0500 (Mon, 03 Feb 2025) EllapsedTime: 80.1 seconds RetCode: 0 Status: OK PackageFile: CBEA_1.6.0.tar.gz PackageFileSize: 2.089 MiB