Package: CBEA Version: 1.6.0 Command: /Library/Frameworks/R.framework/Resources/bin/R CMD INSTALL CBEA StartedAt: 2025-02-03 17:14:16 -0500 (Mon, 03 Feb 2025) EndedAt: 2025-02-03 17:15:00 -0500 (Mon, 03 Feb 2025) EllapsedTime: 44.0 seconds RetCode: 0 Status: OK