Package: CBEA Version: 1.6.0 Command: /home/biocbuild/R/R/bin/R CMD INSTALL CBEA StartedAt: 2025-02-03 21:05:50 -0000 (Mon, 03 Feb 2025) EndedAt: 2025-02-03 21:06:37 -0000 (Mon, 03 Feb 2025) EllapsedTime: 47.9 seconds RetCode: 0 Status: OK