Package: CBNplot Version: 1.6.0 Command: /Library/Frameworks/R.framework/Resources/bin/R CMD INSTALL CBNplot StartedAt: 2025-02-03 17:13:41 -0500 (Mon, 03 Feb 2025) EndedAt: 2025-02-03 17:14:15 -0500 (Mon, 03 Feb 2025) EllapsedTime: 33.9 seconds RetCode: 0 Status: OK