Package: CBNplot Version: 1.6.0 Command: /Library/Frameworks/R.framework/Resources/bin/R CMD check --install=check:CBNplot.install-out.txt --library=/Library/Frameworks/R.framework/Resources/library --no-vignettes --timings CBNplot_1.6.0.tar.gz StartedAt: 2024-11-08 22:16:21 -0500 (Fri, 08 Nov 2024) EndedAt: 2024-11-08 22:22:04 -0500 (Fri, 08 Nov 2024) EllapsedTime: 343.3 seconds RetCode: 0 Status: OK CheckDir: CBNplot.Rcheck Warnings: 0