Package: CBNplot Version: 1.6.0 Command: /home/biocbuild/R/R/bin/R CMD build --keep-empty-dirs --no-resave-data CBNplot StartedAt: 2024-11-19 23:30:18 -0000 (Tue, 19 Nov 2024) EndedAt: 2024-11-19 23:31:37 -0000 (Tue, 19 Nov 2024) EllapsedTime: 79.1 seconds RetCode: 0 Status: OK PackageFile: CBNplot_1.6.0.tar.gz PackageFileSize: 673.7 KiB