Package: CBNplot
Version: 1.6.0
Command: /Library/Frameworks/R.framework/Resources/bin/R CMD build --keep-empty-dirs --no-resave-data CBNplot
StartedAt: 2025-02-17 17:50:23 -0500 (Mon, 17 Feb 2025)
EndedAt: 2025-02-17 17:52:02 -0500 (Mon, 17 Feb 2025)
EllapsedTime: 98.9 seconds
RetCode: 1
Status: ERROR
PackageFile: None
PackageFileSize: NA