Package: CBNplot
Version: 1.5.0
Command: chmod a+r CBNplot -R && F:\biocbuild\bbs-3.20-bioc\R\bin\R.exe CMD build --keep-empty-dirs --no-resave-data CBNplot
StartedAt: 2024-06-09 17:44:56 -0400 (Sun, 09 Jun 2024)
EndedAt: 2024-06-09 17:49:25 -0400 (Sun, 09 Jun 2024)
EllapsedTime: 268.8 seconds
RetCode: 0
Status: OK
PackageFile: CBNplot_1.5.0.tar.gz
PackageFileSize: 1.102 <A href="http://en.wikipedia.org/wiki/MiB" target="_blank">MiB</A>