Package: CBNplot Version: 1.6.0 Command: /home/biocbuild/R/R/bin/R CMD INSTALL CBNplot StartedAt: 2025-02-03 21:07:18 -0000 (Mon, 03 Feb 2025) EndedAt: 2025-02-03 21:07:54 -0000 (Mon, 03 Feb 2025) EllapsedTime: 36.6 seconds RetCode: 0 Status: OK