Package: CCPROMISE Version: 1.32.0 Command: /Library/Frameworks/R.framework/Resources/bin/R CMD check --install=check:CCPROMISE.install-out.txt --library=/Library/Frameworks/R.framework/Resources/library --no-vignettes --timings CCPROMISE_1.32.0.tar.gz StartedAt: 2025-02-04 00:55:04 -0500 (Tue, 04 Feb 2025) EndedAt: 2025-02-04 01:00:40 -0500 (Tue, 04 Feb 2025) EllapsedTime: 336.1 seconds RetCode: 0 Status: WARNINGS CheckDir: CCPROMISE.Rcheck Warnings: 1