Package: CCPROMISE Version: 1.32.0 Command: chmod a+r CCPROMISE -R && F:\biocbuild\bbs-3.20-bioc\R\bin\R.exe CMD build --keep-empty-dirs --no-resave-data CCPROMISE StartedAt: 2025-02-03 17:59:07 -0500 (Mon, 03 Feb 2025) EndedAt: 2025-02-03 17:59:59 -0500 (Mon, 03 Feb 2025) EllapsedTime: 52.2 seconds RetCode: 0 Status: OK PackageFile: CCPROMISE_1.32.0.tar.gz PackageFileSize: 1.031 MiB