Package: CCPROMISE Version: 1.32.0 Command: /home/biocbuild/R/R/bin/R CMD check --install=check:CCPROMISE.install-out.txt --library=/home/biocbuild/R/R/site-library --no-vignettes --timings CCPROMISE_1.32.0.tar.gz StartedAt: 2025-02-04 05:25:16 -0000 (Tue, 04 Feb 2025) EndedAt: 2025-02-04 05:28:29 -0000 (Tue, 04 Feb 2025) EllapsedTime: 193.1 seconds RetCode: 0 Status: WARNINGS CheckDir: CCPROMISE.Rcheck Warnings: 1